BEGIN:VCALENDAR
VERSION:2.0
PRODID:spatie/icalendar-generator
DESCRIPTION:Events from Argentine Tango Philippines
X-WR-CALDESC:Events from Argentine Tango Philippines
REFRESH-INTERVAL;VALUE=DURATION:PT1440M
X-PUBLISHED-TTL:PT1440M
BEGIN:VTIMEZONE
TZID:Etc/GMT-8
BEGIN:STANDARD
DTSTART:20250804T190000Z
TZOFFSETFROM:+0800
TZOFFSETTO:+0800
END:STANDARD
END:VTIMEZONE
BEGIN:VTIMEZONE
TZID:UTC
BEGIN:STANDARD
DTSTART:20250727T155056Z
TZOFFSETFROM:+0000
TZOFFSETTO:+0000
END:STANDARD
END:VTIMEZONE
BEGIN:VEVENT
UID:2428-18
DTSTAMP:20260423T155056Z
SUMMARY:Takitango Milonga: Friday evening Argentine Tango in Makati
LOCATION:Sabor y Vino 33 Polaris St  Makati City Metro Manila
ORGANIZER;CN=Carlos Di Sarli:MAILTO:tangowhere@gmail.com
RRULE:FREQ=WEEKLY;UNTIL=20300831T000000Z
DTSTART;TZID=Etc/GMT-8:20260501T190000
DTEND;TZID=Etc/GMT-8:20260501T235900
X-ALT-DESC;FMTTYPE=TEXT/HTML:Argentine Tango from 7pm-12pm CONTACT Starskey
  @ +639162589898 TO CONFIRM MILONGA VENUE AND PRICING DETAILS Sabor y Vino
  33 Polaris St Makati City &amp;nbsp\;
CATEGORIES:Milonga
URL;VALUE=URI:https://tangophilippines.com/mc-events/takitango-milonga-frid
 ay-evening-argentine-tango-in-makati/?mc_id=2428
METHOD:PUBLISH
END:VEVENT
END:VCALENDAR