BEGIN:VCALENDAR
VERSION:2.0
PRODID:spatie/icalendar-generator
DESCRIPTION:Events from Argentine Tango Philippines
X-WR-CALDESC:Events from Argentine Tango Philippines
REFRESH-INTERVAL;VALUE=DURATION:PT1440M
X-PUBLISHED-TTL:PT1440M
BEGIN:VTIMEZONE
TZID:Etc/GMT-8
BEGIN:STANDARD
DTSTART:20250713T190000Z
TZOFFSETFROM:+0800
TZOFFSETTO:+0800
END:STANDARD
END:VTIMEZONE
BEGIN:VTIMEZONE
TZID:UTC
BEGIN:STANDARD
DTSTART:20250727T155057Z
TZOFFSETFROM:+0000
TZOFFSETTO:+0000
END:STANDARD
END:VTIMEZONE
BEGIN:VEVENT
UID:2690-16
DTSTAMP:20260423T155057Z
SUMMARY:La Chica Milonga Thursday evenings
LOCATION:Skyline Century Mall Kalayaan Avenue\, Corner Salamanca Street  Ma
 kati Metro Manila 1210
ORGANIZER;CN=Miguel Calo:MAILTO:tangoparatodosmnl@gmail.com
RRULE:FREQ=WEEKLY;UNTIL=20301130T000000Z
DTSTART;TZID=Etc/GMT-8:20260409T190000
DTEND;TZID=Etc/GMT-8:20260409T235900
X-ALT-DESC;FMTTYPE=TEXT/HTML:LaChica Milanga Thursdays 7:00pm - 12:00mn Sky
 line Sports Bar &amp;amp\; Social\, Century Mall\, Poblacion\, Makati City CON
 TACT THE ORGANIZERS TO CONFIRM THE MILONGA VENUE AND DETAILS (find them on
  Facebook): Anthony Cabiling +63 906 359 6933
CATEGORIES:Milonga
URL;VALUE=URI:https://tangophilippines.com/mc-events/la-chica-milonga-thurs
 day-evenings/?mc_id=2690
METHOD:PUBLISH
END:VEVENT
END:VCALENDAR