BEGIN:VCALENDAR
VERSION:2.0
PRODID:spatie/icalendar-generator
DESCRIPTION:Events from Argentine Tango Philippines
X-WR-CALDESC:Events from Argentine Tango Philippines
REFRESH-INTERVAL;VALUE=DURATION:PT1440M
X-PUBLISHED-TTL:PT1440M
BEGIN:VTIMEZONE
TZID:Etc/GMT-8
BEGIN:STANDARD
DTSTART:20250725T200000Z
TZOFFSETFROM:+0800
TZOFFSETTO:+0800
END:STANDARD
END:VTIMEZONE
BEGIN:VTIMEZONE
TZID:UTC
BEGIN:STANDARD
DTSTART:20250727T155107Z
TZOFFSETFROM:+0000
TZOFFSETTO:+0000
END:STANDARD
END:VTIMEZONE
BEGIN:VEVENT
UID:3119-25
DTSTAMP:20260423T155107Z
SUMMARY:Tuesday evening Milonga (Tango Elemental)
LOCATION:Sabor y Vino 33 Polaris St  Makati City Metro Manila
ORGANIZER;CN=Carlos Di Sarli:MAILTO:tangowhere@gmail.com
RRULE:FREQ=WEEKLY;UNTIL=20300327T000000Z
DTSTART;TZID=Etc/GMT-8:20260421T200000
DTEND;TZID=Etc/GMT-8:20260421T235900
X-ALT-DESC;FMTTYPE=TEXT/HTML:Tuesday evening Milonga at Sabor y Vino 33 Pol
 aris St\, Makati\, Metro Manila Php 400 per person Php 800 cosumable CONTA
 CT to reserve and confirm milonga details: Jun Borja +63 977 708 1676
CATEGORIES:Milonga
URL;VALUE=URI:https://tangophilippines.com/mc-events/tuesday-evening-milong
 a-tango-elemental/?mc_id=3119
METHOD:PUBLISH
END:VEVENT
END:VCALENDAR