BEGIN:VCALENDAR
VERSION:2.0
PRODID:spatie/icalendar-generator
DESCRIPTION:Events from Argentine Tango Philippines
X-WR-CALDESC:Events from Argentine Tango Philippines
REFRESH-INTERVAL;VALUE=DURATION:PT1440M
X-PUBLISHED-TTL:PT1440M
BEGIN:VTIMEZONE
TZID:Etc/GMT-8
BEGIN:STANDARD
DTSTART:20250803T190000Z
TZOFFSETFROM:+0800
TZOFFSETTO:+0800
END:STANDARD
END:VTIMEZONE
BEGIN:VTIMEZONE
TZID:UTC
BEGIN:STANDARD
DTSTART:20250727T154917Z
TZOFFSETFROM:+0000
TZOFFSETTO:+0000
END:STANDARD
END:VTIMEZONE
BEGIN:VEVENT
UID:3363-26
DTSTAMP:20260423T154917Z
SUMMARY:Todo Tango Milonga Thursday afternoons
LOCATION:Skyline Century Mall Kalayaan Avenue\, Corner Salamanca Street  Ma
 kati Metro Manila 1210
ORGANIZER;CN=Miguel Calo:MAILTO:tangoparatodosmnl@gmail.com
RRULE:FREQ=WEEKLY;UNTIL=20301130T000000Z
DTSTART;TZID=Etc/GMT-8:20260430T190000
DTEND;TZID=Etc/GMT-8:20260430T235900
X-ALT-DESC;FMTTYPE=TEXT/HTML:Todo Tango Milonga Thursday afternoons at Isht
 ar Php 300 Door Charge Thursdays 7:00pm - 12:00mn Ishtar Mediterranean Pub
 \, Leviste St\, Makati City &amp;nbsp\; CONTACT THE ORGANIZERS TO CONFIRM THE 
 MILONGA VENUE AND DETAILS: Dennis +6391753652766
CATEGORIES:Milonga
URL;VALUE=URI:https://tangophilippines.com/mc-events/todo-tango-milonga-thu
 rsday-afternoons/?mc_id=3363
METHOD:PUBLISH
END:VEVENT
END:VCALENDAR