BEGIN:VCALENDAR
VERSION:2.0
PRODID:spatie/icalendar-generator
DESCRIPTION:Events from Argentine Tango Philippines
X-WR-CALDESC:Events from Argentine Tango Philippines
REFRESH-INTERVAL;VALUE=DURATION:PT1440M
X-PUBLISHED-TTL:PT1440M
BEGIN:VTIMEZONE
TZID:Etc/GMT-8
BEGIN:STANDARD
DTSTART:20250722T200000Z
TZOFFSETFROM:+0800
TZOFFSETTO:+0800
END:STANDARD
END:VTIMEZONE
BEGIN:VTIMEZONE
TZID:UTC
BEGIN:STANDARD
DTSTART:20250727T154941Z
TZOFFSETFROM:+0000
TZOFFSETTO:+0000
END:STANDARD
END:VTIMEZONE
BEGIN:VEVENT
UID:3614-27
DTSTAMP:20260423T154941Z
SUMMARY:Saturday evening Milonga (Tango Elemental)
LOCATION:Sabor y Vino 33 Polaris St  Makati City Metro Manila
ORGANIZER;CN=Carlos Di Sarli:MAILTO:tangowhere@gmail.com
RRULE:FREQ=WEEKLY;UNTIL=20300327T000000Z
DTSTART;TZID=Etc/GMT-8:20260418T200000
DTEND;TZID=Etc/GMT-8:20260418T235900
X-ALT-DESC;FMTTYPE=TEXT/HTML:Tuesday evening Milonga at Sabor y Vino 33 Pol
 aris St\, Makati\, Metro Manila Php 400 per person Php 700 cosumable CONTA
 CT to reserve and confirm milonga details: Louie\, Lloyd\, Angelo\, or Rod
 olfo
CATEGORIES:Milonga
URL;VALUE=URI:https://tangophilippines.com/mc-events/saturday-evening-milon
 ga-tango-elemental/?mc_id=3614
METHOD:PUBLISH
END:VEVENT
END:VCALENDAR