BEGIN:VCALENDAR
VERSION:2.0
PRODID:spatie/icalendar-generator
DESCRIPTION:Events from Argentine Tango Philippines
X-WR-CALDESC:Events from Argentine Tango Philippines
REFRESH-INTERVAL;VALUE=DURATION:PT1440M
X-PUBLISHED-TTL:PT1440M
BEGIN:VTIMEZONE
TZID:Etc/GMT-8
BEGIN:STANDARD
DTSTART:20250731T200000Z
TZOFFSETFROM:+0800
TZOFFSETTO:+0800
END:STANDARD
END:VTIMEZONE
BEGIN:VTIMEZONE
TZID:UTC
BEGIN:STANDARD
DTSTART:20250727T182523Z
TZOFFSETFROM:+0000
TZOFFSETTO:+0000
END:STANDARD
END:VTIMEZONE
BEGIN:VEVENT
UID:4078-28
DTSTAMP:20260423T182523Z
SUMMARY:El Tango Gaucho Mondays
LOCATION:Savanna Party Place Corby Building E. Rodriguez Jr. Ave. Quezon Ci
 ty ` 1109
ORGANIZER;CN=Carlos Di Sarli:MAILTO:tangowhere@gmail.com
RRULE:FREQ=WEEKLY;COUNT=0
DTSTART;TZID=Etc/GMT-8:20260427T200000
DTEND;TZID=Etc/GMT-8:20260427T235900
X-ALT-DESC;FMTTYPE=TEXT/HTML:El Tango Gaucho Savannah Party Place\, C5 Quez
 on City 8pm-12mn PHP 250 Door Charge Php 500 Consumable CONTACT THE ORGANI
 ZER TO CONFIRM DETAILS AND PRICING Jun Borja +63 977 708 1676
CATEGORIES:Milonga
URL;VALUE=URI:https://tangophilippines.com/mc-events/el-tango-gaucho-monday
 s/?mc_id=4078
METHOD:PUBLISH
END:VEVENT
END:VCALENDAR